BEGIN:VCALENDAR
VERSION:2.0
PRODID:-//ENTF Kent - ECPv6.15.20//NONSGML v1.0//EN
CALSCALE:GREGORIAN
METHOD:PUBLISH
X-WR-CALNAME:ENTF Kent
X-ORIGINAL-URL:https://entfkent.org
X-WR-CALDESC:Events for ENTF Kent
REFRESH-INTERVAL;VALUE=DURATION:PT1H
X-Robots-Tag:noindex
X-PUBLISHED-TTL:PT1H
BEGIN:VTIMEZONE
TZID:America/New_York
BEGIN:DAYLIGHT
TZOFFSETFROM:-0500
TZOFFSETTO:-0400
TZNAME:EDT
DTSTART:20250309T070000
END:DAYLIGHT
BEGIN:STANDARD
TZOFFSETFROM:-0400
TZOFFSETTO:-0500
TZNAME:EST
DTSTART:20251102T060000
END:STANDARD
BEGIN:DAYLIGHT
TZOFFSETFROM:-0500
TZOFFSETTO:-0400
TZNAME:EDT
DTSTART:20260308T070000
END:DAYLIGHT
BEGIN:STANDARD
TZOFFSETFROM:-0400
TZOFFSETTO:-0500
TZNAME:EST
DTSTART:20261101T060000
END:STANDARD
BEGIN:DAYLIGHT
TZOFFSETFROM:-0500
TZOFFSETTO:-0400
TZNAME:EDT
DTSTART:20270314T070000
END:DAYLIGHT
BEGIN:STANDARD
TZOFFSETFROM:-0400
TZOFFSETTO:-0500
TZNAME:EST
DTSTART:20271107T060000
END:STANDARD
END:VTIMEZONE
BEGIN:VEVENT
DTSTART;TZID=America/New_York:20260311T083000
DTEND;TZID=America/New_York:20260311T100000
DTSTAMP:20260423T154058
CREATED:20251120T210118Z
LAST-MODIFIED:20260311T125411Z
UID:10000369-1773217800-1773223200@entfkent.org
SUMMARY:ENTF Food & Nutrition Committee
DESCRIPTION:If you are interested in joining this Committee\, please subscribe to our mailing list for meeting details.
URL:https://entfkent.org/event/entf-food-and-nutrition-committee-4/
CATEGORIES:Food & Nutrition Committee
END:VEVENT
END:VCALENDAR